BEGIN:VCALENDAR
VERSION:2.0
PRODID:-//Soaring Wines | Arizona High-Altitude Wines &amp; Adventures - ECPv6.15.13//NONSGML v1.0//EN
CALSCALE:GREGORIAN
METHOD:PUBLISH
X-ORIGINAL-URL:https://www.soaringwines.com
X-WR-CALDESC:Events for Soaring Wines | Arizona High-Altitude Wines &amp; Adventures
REFRESH-INTERVAL;VALUE=DURATION:PT1H
X-Robots-Tag:noindex
X-PUBLISHED-TTL:PT1H
BEGIN:VTIMEZONE
TZID:America/Phoenix
BEGIN:STANDARD
TZOFFSETFROM:-0700
TZOFFSETTO:-0700
TZNAME:MST
DTSTART:20240101T000000
END:STANDARD
END:VTIMEZONE
BEGIN:VEVENT
DTSTART;TZID=America/Phoenix:20260206T110000
DTEND;TZID=America/Phoenix:20260207T170000
DTSTAMP:20260421T130440
CREATED:20251225T183526Z
LAST-MODIFIED:20251225T183526Z
UID:7844-1770375600-1770483600@www.soaringwines.com
SUMMARY:Tubac Festival of the Arts\, Beer & Wine Garden (Feb. 6 - 7\, 2026)
DESCRIPTION:Step into history and artistry at the Tubac Festival of the Arts\, a cherished tradition in the Historic Village of Tubac since 1959. As Southern Arizona’s longest-running art festival\, this event promises a captivating blend of fine art\, delicious cuisine\, and live entertainment against the backdrop of one of Arizona’s most picturesque settings. \nFive Arizona wineries will be at the festival\, pouring award-winning wines. \nTickets are available at Willcox Wine Country
URL:https://www.soaringwines.com/event/tubac-festival-of-the-arts-beer-wine-garden-feb-6-7-2026/
LOCATION:Tubac Festival of Arts\, 2221 I-19 Frontage Rd\, Tubac\, Arizona\, 85646
ATTACH;FMTTYPE=image/png:https://www.soaringwines.com/wp-content/uploads/2025/12/Tubac2026.png
END:VEVENT
BEGIN:VEVENT
DTSTART;TZID=America/Phoenix:20260131T100000
DTEND;TZID=America/Phoenix:20260201T170000
DTSTAMP:20260421T130440
CREATED:20251225T182653Z
LAST-MODIFIED:20251225T182653Z
UID:7841-1769853600-1769965200@www.soaringwines.com
SUMMARY:Kierland Fine Art & Wine Festival (Jan. 31 - Feb. 1\, 2026)
DESCRIPTION:Experience Art and Wine Paradise at Kierland Commons: Nestled in North Scottsdale’s esteemed Kierland Commons\, this annual event\, produced in collaboration by Vermillion Promotions\, Kierland Commons\, and Arizona Wine Events\, promises a delightful fusion of art and wine. Immerse yourself in a curated selection of fine art and wines from Arizona’s top wineries\, all set against the backdrop of Kierland’s renowned upscale ambiance. \nTickets available at Willcox Wine Country
URL:https://www.soaringwines.com/event/kierland-fine-art-wine-festival-jan-31-feb-1-2026/
LOCATION:Kierland Commons\, 15210 N Scottsdale Rd\, Phoenix\, 85254\, United States
ATTACH;FMTTYPE=image/png:https://www.soaringwines.com/wp-content/uploads/2025/12/Kierland-Jan2026.png
END:VEVENT
BEGIN:VEVENT
DTSTART;TZID=America/Phoenix:20260124T110000
DTEND;TZID=America/Phoenix:20260126T190000
DTSTAMP:20260421T130440
CREATED:20251225T182104Z
LAST-MODIFIED:20251225T182748Z
UID:7837-1769252400-1769454000@www.soaringwines.com
SUMMARY:The Arizona Wine Festival (Jan 24-25\, 2026)
DESCRIPTION:The festival will feature 20 Arizona Wineries\, 70 artist\, craft and artisan vendors\, food trucks and live entertainment! \nThe Arizona Wine festival is the premier festival featuring 20 of Arizona’s best wineries! This year we are excited to introduce new activities: \nFirst\, Barrel Tastings. The Laft Pavilion will be transformed into the Barrel Room where you can do barrel tastings with 6 different wineries. Talk to the winemakers about how the wine was made\, learn about the barrel aging process and taste the difference of barrel wine versus the finished wine in a bottle. \nSecond\, we are having a grape stomp competition. Teams of two will compete to see who can stomp the most juice out of grapes. Prizes and Fun guaranteed! \nTickets available at Willcox Wine Country
URL:https://www.soaringwines.com/event/the-arizona-wine-festival-jan-24-25-2026/
LOCATION:Heritage Square\, 113 N 6th St\, Phoenix\, Arizona\, 85004
ATTACH;FMTTYPE=image/png:https://www.soaringwines.com/wp-content/uploads/2025/12/The-Arizona-Wine-Festival.png
END:VEVENT
BEGIN:VEVENT
DTSTART;TZID=America/Phoenix:20260109T110000
DTEND;TZID=America/Phoenix:20260111T170000
DTSTAMP:20260421T130440
CREATED:20251225T180649Z
LAST-MODIFIED:20251225T181606Z
UID:7829-1767956400-1768150800@www.soaringwines.com
SUMMARY:Cave Creek Art & Wine Festival (Jan 9 - 11\, 2026)
DESCRIPTION:Immerse yourself in the vibrant arts & wine scene amidst the breathtaking desert landscape of Cave Creek and Carefree\, Arizona. \nExplore a curated selection of local and regional artists showcasing their talents in an enchanting open-air plaza with panoramic desert views. Stagecoach Village\, nestled at the intersection of Cave Creek and Carefree\, provides an idyllic setting for this outdoor art extravaganza. \nEnhance your shopping spree with wine tastings from local wineries\, available on Friday\, Saturday and Sunday from 11 am to 5 pm. \nExperience the festival’s lively atmosphere as you sip on fine Arizona wines\, savor delicious festival fare\, and enjoy the rhythms of live music. \nTickets available at the door or Willcox Wine Country
URL:https://www.soaringwines.com/event/cave-creek-art-wine-festival/
LOCATION:Stagecoach Village\, 7100 E. Cave Creek Rd\, Cave Creek\, AZ\, 85331\, United States
ATTACH;FMTTYPE=image/png:https://www.soaringwines.com/wp-content/uploads/2025/12/Cave-CreeK.png
END:VEVENT
BEGIN:VEVENT
DTSTART;TZID=America/Phoenix:20251122T110000
DTEND;TZID=America/Phoenix:20251122T160000
DTSTAMP:20260421T130440
CREATED:20250930T212204Z
LAST-MODIFIED:20250930T214318Z
UID:7481-1763809200-1763827200@www.soaringwines.com
SUMMARY:Sip\, Swirl\, Shop & Support
DESCRIPTION:Shop unique gifts and treats while sampling the region’s finest wines and craft beers. Proceeds benefit the Greater Green Valley Community Foundation. Purchase tickets on Eventbrite.
URL:https://www.soaringwines.com/event/sip-swirl-shop-support/
LOCATION:HIstoric Canoa Ranch\, 5375 S I-19 Frontage Rd\, Green Valley\, AZ\, 85622\, United States
END:VEVENT
BEGIN:VEVENT
DTSTART;TZID=America/Phoenix:20251121T000000
DTEND;TZID=America/Phoenix:20251123T235959
DTSTAMP:20260421T130440
CREATED:20250930T211308Z
LAST-MODIFIED:20250930T213551Z
UID:7476-1763683200-1763942399@www.soaringwines.com
SUMMARY:Sonoran Fine Art & Wine Festival
DESCRIPTION:The 16th Annual Sonoran Fine Art & Wine Festival\, a popular Art event in the heart of Cave Creek with stunning desert views & vibrant artistry: The festival takes place at Stagecoach Village\, perfectly positioned at the crossroads of Cave Creek and Carefree. This charming venue offers a unique festival experience\, featuring local and regional artists showcasing their work amidst western-style architecture and panoramic mountain views.
URL:https://www.soaringwines.com/event/sonoran-fina-art-wine-festival/
LOCATION:Stagecoach Village\, 7100 E. Cave Creek Rd\, Cave Creek\, AZ\, 85331\, United States
ATTACH;FMTTYPE=image/png:https://www.soaringwines.com/wp-content/uploads/2025/09/SonoranStagecoach.png
END:VEVENT
BEGIN:VEVENT
DTSTART;TZID=America/Phoenix:20251108T000000
DTEND;TZID=America/Phoenix:20251109T235959
DTSTAMP:20260421T130440
CREATED:20250930T194256Z
LAST-MODIFIED:20250930T213500Z
UID:7472-1762560000-1762732799@www.soaringwines.com
SUMMARY:Westworld Fine Art & Wine Experience
DESCRIPTION:An elevated tasting journey at one of Scottsdale’s premier venues. Join us for a weekend of fine art & wine.
URL:https://www.soaringwines.com/event/westworld-fine-art-wine-experience/
LOCATION:Westworld\, 16601 N. Pima Rd\, Scottsdale\, AZ\, 85260\, United States
ATTACH;FMTTYPE=image/png:https://www.soaringwines.com/wp-content/uploads/2025/09/Westworld.png
END:VEVENT
BEGIN:VEVENT
DTSTART;TZID=America/Phoenix:20251102T000000
DTEND;TZID=America/Phoenix:20251103T235959
DTSTAMP:20260421T130440
CREATED:20250930T192438Z
LAST-MODIFIED:20250930T213354Z
UID:7465-1762041600-1762214399@www.soaringwines.com
SUMMARY:Kierland Fine Art & Wine Festival
DESCRIPTION:Where fine art meets fine wine—join us for a weekend of vibrant cultural experience.
URL:https://www.soaringwines.com/event/kierland-fine-art-wine-festival/
LOCATION:Kierland Commons\, 15210 N Scottsdale Rd\, Phoenix\, 85254\, United States
ATTACH;FMTTYPE=image/png:https://www.soaringwines.com/wp-content/uploads/2025/09/Kierland-Nov-2025.png
END:VEVENT
BEGIN:VEVENT
DTSTART;TZID=America/Phoenix:20251025T000000
DTEND;TZID=America/Phoenix:20251026T235959
DTSTAMP:20260421T130440
CREATED:20250930T191453Z
LAST-MODIFIED:20250930T191901Z
UID:7459-1761350400-1761523199@www.soaringwines.com
SUMMARY:Oro Valley Fall Foodie & Wine Festival
DESCRIPTION:Sip\, savor\, and explore culinary pairings as you discover your new favorite Soaring Wines vintage. Enjoy a weekend of delicious food & wine.
URL:https://www.soaringwines.com/event/oro-valley-fall-foodie-wine-festival/
LOCATION:Oro Valley Marketplace\, 12155 N. Oracle Road\, Oro Valley\, AZ\, 85737\, United States
END:VEVENT
BEGIN:VEVENT
DTSTART;TZID=America/Phoenix:20251018T000000
DTEND;TZID=America/Phoenix:20251019T235959
DTSTAMP:20260421T130440
CREATED:20250810T211212Z
LAST-MODIFIED:20250930T191728Z
UID:6990-1760745600-1760918399@www.soaringwines.com
SUMMARY:Willcox Wine Country Fall Festival
DESCRIPTION:The Willcox Wine Country Festival is back and better than ever\, promising a delightful weekend filled with exceptional wines\, live music\, and unforgettable experiences. Set against the picturesque backdrop of the stunning Willcox wine region\, this festival is a must-attend event for wine enthusiasts and connoisseurs alike.
URL:https://www.soaringwines.com/event/willcox-wine-festival-2/
LOCATION:Willcox Wine Festival\, 180 N Railroad Ave\, Willcox\, AZ\, 85643\, United States
CATEGORIES:Festival
ATTACH;FMTTYPE=image/png:https://www.soaringwines.com/wp-content/uploads/2025/08/Willcox-Fall-Festival-2025.png
END:VEVENT
BEGIN:VEVENT
DTSTART;TZID=America/Phoenix:20250830T170000
DTEND;TZID=America/Phoenix:20250830T200000
DTSTAMP:20260421T130440
CREATED:20250810T202040Z
LAST-MODIFIED:20250810T221741Z
UID:6976-1756573200-1756584000@www.soaringwines.com
SUMMARY:Cool Nights at the Willcox Commercial Building
DESCRIPTION:Join us at The Willcox Commercial for an evening of smooth local wines\, toe-tapping live music\, tasty food pairing bites\,* and card games.  It’s a great way to chill with friends\, beat the heat\, and enjoy wines from Soaring Wines\, Strive Vineyards\, and Copper Horse Vineyard. \n📍 180 N Railroad Ave.\, Willcox\, AZ 85643\nNo ticket needed – just bring your crew and your thirst for fun! \n* Food pair bites available with wine tasting or wine purchase.
URL:https://www.soaringwines.com/event/cool-nights-at-the-willcox-commercial-building/
LOCATION:Willcox Comercial Building\, 180 N. Railroad Avenue\, Willcox\, AZ\, 85643\, United States
ATTACH;FMTTYPE=image/png:https://www.soaringwines.com/wp-content/uploads/2025/08/CoolNightsAug2025.png
ORGANIZER;CN="Soaring Wines":MAILTO:losman@soaringwines.com
END:VEVENT
BEGIN:VEVENT
DTSTART;TZID=America/Phoenix:20250802T110000
DTEND;TZID=America/Phoenix:20250803T170000
DTSTAMP:20260421T130440
CREATED:20250610T115213Z
LAST-MODIFIED:20250610T115213Z
UID:3953-1754132400-1754240400@www.soaringwines.com
SUMMARY:Prescott Art & Wine Festival
DESCRIPTION:The historic Prescott Courthouse Plaza in downtown will be bustling with wineries\, artists\, and art enthusiasts for the Prescott Fine Art & Wine Festival on Saturday\, August 1\, and Sunday\, August 2\, 2025.
URL:https://www.soaringwines.com/event/prescott-art-wine-festival/
LOCATION:Courthouse Plaza\, 100 W Goodwin St\, Prescott\, AZ\, United States
END:VEVENT
BEGIN:VEVENT
DTSTART;TZID=America/Phoenix:20250518T110000
DTEND;TZID=America/Phoenix:20250520T170000
DTSTAMP:20260421T130440
CREATED:20250416T114031Z
LAST-MODIFIED:20250416T114031Z
UID:3560-1747566000-1747760400@www.soaringwines.com
SUMMARY:Willcox Wine Festival
DESCRIPTION:Willcox Wine Festival \nWillcox Wine Country\, recognized as Arizona’s premier wine region\, is proud to announce the Willcox Wine Country Spring Wine Festival on May 17th and 18th. Known for its unique terroir and exceptional wine quality\, Willcox Wine Country continues to be a destination of choice for wine enthusiasts and connoisseurs.
URL:https://www.soaringwines.com/event/willcox-wine-festival/
LOCATION:Willcox Wine Festival\, 180 N Railroad Ave\, Willcox\, AZ\, 85643\, United States
END:VEVENT
BEGIN:VEVENT
DTSTART;TZID=America/Phoenix:20250511T110000
DTEND;TZID=America/Phoenix:20250512T170000
DTSTAMP:20260421T130440
CREATED:20250414T040318Z
LAST-MODIFIED:20250416T080232Z
UID:3464-1746961200-1747069200@www.soaringwines.com
SUMMARY:Mother's Day Art & Wine Festival
DESCRIPTION:The historic Prescott Courthouse Plaza in downtown will be bustling with wineries\, artists and art enthusiasts on Mother’s Day weekend (Saturday\, May 10 and Sunday\, May 11) as the Mountain Artists Guild hosts its annual Mother’s Day Fine Art Festival.
URL:https://www.soaringwines.com/event/prescotts-mothers-day-art-wine-festival/
LOCATION:Courthouse Plaza\, 100 W Goodwin St\, Prescott\, AZ\, United States
END:VEVENT
END:VCALENDAR